BEGIN:VCALENDAR
VERSION:2.0
PRODID:-//Caladesi Steel Band - ECPv6.15.20//NONSGML v1.0//EN
CALSCALE:GREGORIAN
METHOD:PUBLISH
X-WR-CALNAME:Caladesi Steel Band
X-ORIGINAL-URL:https://www.caladesisteelband.com
X-WR-CALDESC:Events for Caladesi Steel Band
REFRESH-INTERVAL;VALUE=DURATION:PT1H
X-Robots-Tag:noindex
X-PUBLISHED-TTL:PT1H
BEGIN:VTIMEZONE
TZID:America/New_York
BEGIN:DAYLIGHT
TZOFFSETFROM:-0500
TZOFFSETTO:-0400
TZNAME:EDT
DTSTART:20200308T070000
END:DAYLIGHT
BEGIN:STANDARD
TZOFFSETFROM:-0400
TZOFFSETTO:-0500
TZNAME:EST
DTSTART:20201101T060000
END:STANDARD
BEGIN:DAYLIGHT
TZOFFSETFROM:-0500
TZOFFSETTO:-0400
TZNAME:EDT
DTSTART:20210314T070000
END:DAYLIGHT
BEGIN:STANDARD
TZOFFSETFROM:-0400
TZOFFSETTO:-0500
TZNAME:EST
DTSTART:20211107T060000
END:STANDARD
BEGIN:DAYLIGHT
TZOFFSETFROM:-0500
TZOFFSETTO:-0400
TZNAME:EDT
DTSTART:20220313T070000
END:DAYLIGHT
BEGIN:STANDARD
TZOFFSETFROM:-0400
TZOFFSETTO:-0500
TZNAME:EST
DTSTART:20221106T060000
END:STANDARD
END:VTIMEZONE
BEGIN:VEVENT
DTSTART;TZID=America/New_York:20211007T170000
DTEND;TZID=America/New_York:20211007T200000
DTSTAMP:20260421T155815
CREATED:20211004T013556Z
LAST-MODIFIED:20211004T013556Z
UID:10000007-1633626000-1633636800@www.caladesisteelband.com
SUMMARY:Karol Hotel Wedding Showcase
DESCRIPTION:Join us at the Karol Hotel in Clearwater for a free wedding showcase!
URL:https://www.caladesisteelband.com/event/karol-hotel-wedding-showcase/
LOCATION:Karol Hotel\, 2675 Ulmerton Road\, Clearwater\, FL\, 33762\, United States
ATTACH;FMTTYPE=image/jpeg:https://caladesisteelband.com/wp-content/uploads/2021/10/9ECABB58-B046-46A1-BE88-F12F7A6EDE09.jpeg
END:VEVENT
END:VCALENDAR