BEGIN:VCALENDAR
VERSION:2.0
PRODID:-//Caladesi Steel Band - ECPv6.15.20//NONSGML v1.0//EN
CALSCALE:GREGORIAN
METHOD:PUBLISH
X-ORIGINAL-URL:https://www.caladesisteelband.com
X-WR-CALDESC:Events for Caladesi Steel Band
REFRESH-INTERVAL;VALUE=DURATION:PT1H
X-Robots-Tag:noindex
X-PUBLISHED-TTL:PT1H
BEGIN:VTIMEZONE
TZID:America/New_York
BEGIN:DAYLIGHT
TZOFFSETFROM:-0500
TZOFFSETTO:-0400
TZNAME:EDT
DTSTART:20210314T070000
END:DAYLIGHT
BEGIN:STANDARD
TZOFFSETFROM:-0400
TZOFFSETTO:-0500
TZNAME:EST
DTSTART:20211107T060000
END:STANDARD
BEGIN:DAYLIGHT
TZOFFSETFROM:-0500
TZOFFSETTO:-0400
TZNAME:EDT
DTSTART:20220313T070000
END:DAYLIGHT
BEGIN:STANDARD
TZOFFSETFROM:-0400
TZOFFSETTO:-0500
TZNAME:EST
DTSTART:20221106T060000
END:STANDARD
BEGIN:DAYLIGHT
TZOFFSETFROM:-0500
TZOFFSETTO:-0400
TZNAME:EDT
DTSTART:20230312T070000
END:DAYLIGHT
BEGIN:STANDARD
TZOFFSETFROM:-0400
TZOFFSETTO:-0500
TZNAME:EST
DTSTART:20231105T060000
END:STANDARD
END:VTIMEZONE
BEGIN:VEVENT
DTSTART;TZID=America/New_York:20220616T170000
DTEND;TZID=America/New_York:20220616T200000
DTSTAMP:20260421T005214
CREATED:20220614T230215Z
LAST-MODIFIED:20220614T230215Z
UID:10000005-1655398800-1655409600@www.caladesisteelband.com
SUMMARY:Caladesi Steel Band Duo at the 3 Daughters Brewery Tasing Room on Clearwater Beach
DESCRIPTION:Join us at the new 3 Daughters Brewing Tasting Room on Clearwater Beach! Steel pan and percussion duo with my friend Ignacio Marin.
URL:https://www.caladesisteelband.com/event/caladesi-steel-band-duo-at-the-3-daughters-brewery-tasing-room-on-clearwater-beach/
LOCATION:3 Daughters Brewing Clearwater Beach\, 381 Mandalay Ave 3rd Floor\, Clearwater\, FL\, 33767\, United States
CATEGORIES:Events
ORGANIZER;CN="Caladesi Steel Band":MAILTO:info@caladesisteelband.com
END:VEVENT
END:VCALENDAR