BEGIN:VCALENDAR
VERSION:2.0
PRODID:-//Caladesi Steel Band - ECPv6.15.20//NONSGML v1.0//EN
CALSCALE:GREGORIAN
METHOD:PUBLISH
X-ORIGINAL-URL:https://www.caladesisteelband.com
X-WR-CALDESC:Events for Caladesi Steel Band
REFRESH-INTERVAL;VALUE=DURATION:PT1H
X-Robots-Tag:noindex
X-PUBLISHED-TTL:PT1H
BEGIN:VTIMEZONE
TZID:America/New_York
BEGIN:DAYLIGHT
TZOFFSETFROM:-0500
TZOFFSETTO:-0400
TZNAME:EDT
DTSTART:20220313T070000
END:DAYLIGHT
BEGIN:STANDARD
TZOFFSETFROM:-0400
TZOFFSETTO:-0500
TZNAME:EST
DTSTART:20221106T060000
END:STANDARD
BEGIN:DAYLIGHT
TZOFFSETFROM:-0500
TZOFFSETTO:-0400
TZNAME:EDT
DTSTART:20230312T070000
END:DAYLIGHT
BEGIN:STANDARD
TZOFFSETFROM:-0400
TZOFFSETTO:-0500
TZNAME:EST
DTSTART:20231105T060000
END:STANDARD
BEGIN:DAYLIGHT
TZOFFSETFROM:-0500
TZOFFSETTO:-0400
TZNAME:EDT
DTSTART:20240310T070000
END:DAYLIGHT
BEGIN:STANDARD
TZOFFSETFROM:-0400
TZOFFSETTO:-0500
TZNAME:EST
DTSTART:20241103T060000
END:STANDARD
END:VTIMEZONE
BEGIN:VEVENT
DTSTART;TZID=America/New_York:20230916T100000
DTEND;TZID=America/New_York:20230916T140000
DTSTAMP:20260420T021417
CREATED:20230912T162157Z
LAST-MODIFIED:20230912T162300Z
UID:10000002-1694858400-1694872800@www.caladesisteelband.com
SUMMARY:Osprey Library and History Center's Open House
DESCRIPTION:Program Type:\nArts & Crafts\, Live Music\, Special Events\, Storytimes \n\n\nAge Group:\nAll Ages \n\nProgram Description\nDetails\n\nThere’s something for everyone! \npop-up library reveal • mammoth-themed storytime • steel drum music by caladesi • crafts and demonstrations • exhibits and rare collections • light refreshments \nJoin in the jubilation and discover Sarasota County Libraries and Historical Resources’ new mobile Pop-Up Library\, commemorate the History Center’s grand opening and celebrate the 96th anniversary of Osprey Schoolhouse\, now the Osprey Library!
URL:https://www.caladesisteelband.com/event/osprey-library-and-history-centers-open-house/
LOCATION:Osprey Library at Historic Spanish Point\, 337 N. Tamiami Trail\, Osprey\, FL\, 34229\, United States
CATEGORIES:Events
ATTACH;FMTTYPE=image/png:https://caladesisteelband.com/wp-content/uploads/2023/09/SCGov-FYS-Logo-Lockup-v2-Blue_4.png
END:VEVENT
END:VCALENDAR