BEGIN:VCALENDAR
VERSION:2.0
PRODID:-//Caladesi Steel Band - ECPv6.15.20//NONSGML v1.0//EN
CALSCALE:GREGORIAN
METHOD:PUBLISH
X-ORIGINAL-URL:https://www.caladesisteelband.com
X-WR-CALDESC:Events for Caladesi Steel Band
REFRESH-INTERVAL;VALUE=DURATION:PT1H
X-Robots-Tag:noindex
X-PUBLISHED-TTL:PT1H
BEGIN:VTIMEZONE
TZID:America/New_York
BEGIN:DAYLIGHT
TZOFFSETFROM:-0500
TZOFFSETTO:-0400
TZNAME:EDT
DTSTART:20220313T070000
END:DAYLIGHT
BEGIN:STANDARD
TZOFFSETFROM:-0400
TZOFFSETTO:-0500
TZNAME:EST
DTSTART:20221106T060000
END:STANDARD
BEGIN:DAYLIGHT
TZOFFSETFROM:-0500
TZOFFSETTO:-0400
TZNAME:EDT
DTSTART:20230312T070000
END:DAYLIGHT
BEGIN:STANDARD
TZOFFSETFROM:-0400
TZOFFSETTO:-0500
TZNAME:EST
DTSTART:20231105T060000
END:STANDARD
BEGIN:DAYLIGHT
TZOFFSETFROM:-0500
TZOFFSETTO:-0400
TZNAME:EDT
DTSTART:20240310T070000
END:DAYLIGHT
BEGIN:STANDARD
TZOFFSETFROM:-0400
TZOFFSETTO:-0500
TZNAME:EST
DTSTART:20241103T060000
END:STANDARD
END:VTIMEZONE
BEGIN:VEVENT
DTSTART;TZID=America/New_York:20231229T080000
DTEND;TZID=America/New_York:20231229T120000
DTSTAMP:20260419T212223
CREATED:20231218T203758Z
LAST-MODIFIED:20231219T222257Z
UID:10000030-1703836800-1703851200@www.caladesisteelband.com
SUMMARY:Caladesi Steel Band at Sirata Rum Runners
DESCRIPTION:For early risers\, we’ll be playing solo at the Rum Runners at the Sirata Beach Resort on St Pete Beach from 8am to 12pm every day Dec 24th through New Years day. \nhttps://www.instagram.com/siratastpete/ \n 
URL:https://www.caladesisteelband.com/event/caladesi-steel-band-at-sirata-rum-runners/2023-12-29/
LOCATION:Sirata Beach Resort\, 5300 Gulf Blvd\,\, St Pete Beach\, FL\, 33706\, United States
CATEGORIES:Events,St Petersburg Beach
ATTACH;FMTTYPE=image/jpeg:https://caladesisteelband.com/wp-content/uploads/2023/12/rum-runners-sirata.jpg
ORGANIZER;CN="Caladesi Steel Band":MAILTO:info@caladesisteelband.com
END:VEVENT
BEGIN:VEVENT
DTSTART;TZID=America/New_York:20231229T183000
DTEND;TZID=America/New_York:20231229T203000
DTSTAMP:20260419T212223
CREATED:20231224T230330Z
LAST-MODIFIED:20231224T230635Z
UID:10000024-1703874600-1703881800@www.caladesisteelband.com
SUMMARY:Caladesi Steel Band concert at Bonnet Springs Park
DESCRIPTION:Caladesi Steel Band quartet live!\nGet ready for a fantastic\, FREE event packed with family-friendly activities spread across two weeks in December!\n\n\n\n\n\n\nCelebrate the season\, as each night will feature unique holiday themes and engaging activities. Don’t forget to mark your calendars and stay tuned for more thrilling announcements! \nThank you to our Light Up BSP Sponsors and Partners!
URL:https://www.caladesisteelband.com/event/caladesi-steel-band-concert-at-bonnet-springs-park/
LOCATION:Bonnet Springs Park\, 400 Bonnet Springs Boulevard\, Lakeland\, FL\, 33815\, United States
ATTACH;FMTTYPE=image/jpeg:https://caladesisteelband.com/wp-content/uploads/2023/12/IMG_0130.jpeg
END:VEVENT
END:VCALENDAR