BEGIN:VCALENDAR
VERSION:2.0
PRODID:-//Caladesi Steel Band - ECPv6.15.20//NONSGML v1.0//EN
CALSCALE:GREGORIAN
METHOD:PUBLISH
X-ORIGINAL-URL:https://www.caladesisteelband.com
X-WR-CALDESC:Events for Caladesi Steel Band
REFRESH-INTERVAL;VALUE=DURATION:PT1H
X-Robots-Tag:noindex
X-PUBLISHED-TTL:PT1H
BEGIN:VTIMEZONE
TZID:America/New_York
BEGIN:DAYLIGHT
TZOFFSETFROM:-0500
TZOFFSETTO:-0400
TZNAME:EDT
DTSTART:20200308T070000
END:DAYLIGHT
BEGIN:STANDARD
TZOFFSETFROM:-0400
TZOFFSETTO:-0500
TZNAME:EST
DTSTART:20201101T060000
END:STANDARD
BEGIN:DAYLIGHT
TZOFFSETFROM:-0500
TZOFFSETTO:-0400
TZNAME:EDT
DTSTART:20210314T070000
END:DAYLIGHT
BEGIN:STANDARD
TZOFFSETFROM:-0400
TZOFFSETTO:-0500
TZNAME:EST
DTSTART:20211107T060000
END:STANDARD
BEGIN:DAYLIGHT
TZOFFSETFROM:-0500
TZOFFSETTO:-0400
TZNAME:EDT
DTSTART:20220313T070000
END:DAYLIGHT
BEGIN:STANDARD
TZOFFSETFROM:-0400
TZOFFSETTO:-0500
TZNAME:EST
DTSTART:20221106T060000
END:STANDARD
END:VTIMEZONE
BEGIN:VEVENT
DTSTART;TZID=America/New_York:20210502T150000
DTEND;TZID=America/New_York:20210502T180000
DTSTAMP:20260420T021417
CREATED:20210410T005328Z
LAST-MODIFIED:20210422T144935Z
UID:10000009-1619967600-1619978400@www.caladesisteelband.com
SUMMARY:[CANCELLED] Fenway Hotel’s May Wedding Showcase
DESCRIPTION:Sorry this show has been cancelled! We’ll post here if it’s rescheduled.\n\n\nCome see us on May 2nd\, 2021 from 3:00pm – 6:00pm at the wedding showcase at the Fenway Hotel!\n\n\n\n\n\n\nWe’ll be performing and answering questions along with some of the best wedding vendors in the area. \n\nTour the historical Fenway Hotel to see how your wedding can come to life and connect with over 30 of the top wedding professionals in the Tampa Bay Area to see how they can provide the best services for your special day. \nThis event will take place both indoors and outdoors featuring vendor specials\, giveaways and samplings! \nTickets are free until April 25th\, and only $5 April 26th and later. \nBased on current COVID-19 protocols\, properly worn mask is required for entry and Covid-19 protocols will be enforced to keep all of our guests and wedding professionals safe.
URL:https://www.caladesisteelband.com/event/fenway-hotels-may-wedding-showcase/
LOCATION:Fenway Hotel\, 453 Edgewater Drive\, Dunedin\, FL\, 34698\, United States
CATEGORIES:Events,Wedding,Wedding Shows
ATTACH;FMTTYPE=image/jpeg:https://caladesisteelband.com/wp-content/uploads/2021/03/41669802-319E-4FB1-AC24-0FBA737478F8.jpeg
END:VEVENT
END:VCALENDAR