BEGIN:VCALENDAR
VERSION:2.0
PRODID:-//Caladesi Steel Band - ECPv6.15.20//NONSGML v1.0//EN
CALSCALE:GREGORIAN
METHOD:PUBLISH
X-ORIGINAL-URL:https://www.caladesisteelband.com
X-WR-CALDESC:Events for Caladesi Steel Band
REFRESH-INTERVAL;VALUE=DURATION:PT1H
X-Robots-Tag:noindex
X-PUBLISHED-TTL:PT1H
BEGIN:VTIMEZONE
TZID:America/New_York
BEGIN:DAYLIGHT
TZOFFSETFROM:-0500
TZOFFSETTO:-0400
TZNAME:EDT
DTSTART:20240310T070000
END:DAYLIGHT
BEGIN:STANDARD
TZOFFSETFROM:-0400
TZOFFSETTO:-0500
TZNAME:EST
DTSTART:20241103T060000
END:STANDARD
BEGIN:DAYLIGHT
TZOFFSETFROM:-0500
TZOFFSETTO:-0400
TZNAME:EDT
DTSTART:20250309T070000
END:DAYLIGHT
BEGIN:STANDARD
TZOFFSETFROM:-0400
TZOFFSETTO:-0500
TZNAME:EST
DTSTART:20251102T060000
END:STANDARD
BEGIN:DAYLIGHT
TZOFFSETFROM:-0500
TZOFFSETTO:-0400
TZNAME:EDT
DTSTART:20260308T070000
END:DAYLIGHT
BEGIN:STANDARD
TZOFFSETFROM:-0400
TZOFFSETTO:-0500
TZNAME:EST
DTSTART:20261101T060000
END:STANDARD
END:VTIMEZONE
BEGIN:VEVENT
DTSTART;TZID=America/New_York:20251003T190000
DTEND;TZID=America/New_York:20251003T220000
DTSTAMP:20260419T211443
CREATED:20250910T133148Z
LAST-MODIFIED:20250910T133148Z
UID:10000205-1759518000-1759528800@www.caladesisteelband.com
SUMMARY:Keep Tampa Bay Beautiful Tropical Nights!
DESCRIPTION:I’ll be playing solo for the Keep Tampa Bay Beautiful fundraiser at the Tampa Yacht Club on October 3rd. This supports a great cause! \nJoin us for this fun\, tropical-themed annual gala featuring an incredible silent auction\, great food from local Tampa Bay restaurants\, and premium open bars. All proceeds from this tropical themed cocktail party benefit Keep Tampa Bay Beautiful! \n\n\n\nImmerse yourself in a tropical luau atmosphere\nEnjoy a premium bar\nBid at the “You Must See It to Believe It” silent auction\nPartake in a golf experience donated by Dryvebox Tampa
URL:https://www.caladesisteelband.com/event/keep-tampa-bay-beautiful-tropical-nights/
LOCATION:Tampa Yacht Club\, 5320 Interbay Boulevard\, Tampa\, 33611
CATEGORIES:Tampa
ATTACH;FMTTYPE=image/png:https://caladesisteelband.com/wp-content/uploads/2025/09/keeptampabaybeautifultropicalnights.png
END:VEVENT
END:VCALENDAR