BEGIN:VCALENDAR
VERSION:2.0
PRODID:-//Caladesi Steel Band - ECPv6.15.20//NONSGML v1.0//EN
CALSCALE:GREGORIAN
METHOD:PUBLISH
X-ORIGINAL-URL:https://www.caladesisteelband.com
X-WR-CALDESC:Events for Caladesi Steel Band
REFRESH-INTERVAL;VALUE=DURATION:PT1H
X-Robots-Tag:noindex
X-PUBLISHED-TTL:PT1H
BEGIN:VTIMEZONE
TZID:America/New_York
BEGIN:DAYLIGHT
TZOFFSETFROM:-0500
TZOFFSETTO:-0400
TZNAME:EDT
DTSTART:20190310T070000
END:DAYLIGHT
BEGIN:STANDARD
TZOFFSETFROM:-0400
TZOFFSETTO:-0500
TZNAME:EST
DTSTART:20191103T060000
END:STANDARD
BEGIN:DAYLIGHT
TZOFFSETFROM:-0500
TZOFFSETTO:-0400
TZNAME:EDT
DTSTART:20200308T070000
END:DAYLIGHT
BEGIN:STANDARD
TZOFFSETFROM:-0400
TZOFFSETTO:-0500
TZNAME:EST
DTSTART:20201101T060000
END:STANDARD
BEGIN:DAYLIGHT
TZOFFSETFROM:-0500
TZOFFSETTO:-0400
TZNAME:EDT
DTSTART:20210314T070000
END:DAYLIGHT
BEGIN:STANDARD
TZOFFSETFROM:-0400
TZOFFSETTO:-0500
TZNAME:EST
DTSTART:20211107T060000
END:STANDARD
END:VTIMEZONE
BEGIN:VEVENT
DTSTART;TZID=America/New_York:20200215T173000
DTEND;TZID=America/New_York:20200215T190000
DTSTAMP:20260422T214405
CREATED:20200213T183740Z
LAST-MODIFIED:20200213T183847Z
UID:10000019-1581787800-1581793200@www.caladesisteelband.com
SUMMARY:Scallopalooza "It's Clamtastic" to benefit Sarasota Bay Watch.
DESCRIPTION:Caladesi Steel Band at Scallopalooza at the Hyatt Regency Sarasota! We’ll appear at the Scallopalooza event in Sarasota on Feb 15th\, 2020. \nSarasota Bay Watch is excited to announce our 10th annual fundraiser\, “Scallopalooza\, It’s Clamtastic!”  to support our hardshell clam restoration.
URL:https://www.caladesisteelband.com/event/scallopalooza-its-clamtastic-to-benefit-sarasota-bay-watch/
LOCATION:Hyatt Regency Sarasota\, 1000 Boulevard of the Arts\, Sarasota\, FL\, 34236\, United States
ATTACH;FMTTYPE=image/png:https://caladesisteelband.com/wp-content/uploads/2020/02/Save-the-Date.png
END:VEVENT
BEGIN:VEVENT
DTSTART;TZID=America/New_York:20200223T120000
DTEND;TZID=America/New_York:20200223T150000
DTSTAMP:20260422T214405
CREATED:20200109T172534Z
LAST-MODIFIED:20210119T154704Z
UID:10000018-1582459200-1582470000@www.caladesisteelband.com
SUMMARY:Don CeSar Bridal Show 2020
DESCRIPTION:We’ll be performing at the Don CeSar Bridal Show on Feb 23rd\, 2020! The Don CeSar is consistently ranked as one of the best wedding venues in the area.  \nComplimentary Champagne\, Hors d’Oeuvres and Self-Parking\n$10 PER PERSON IF PURCHASED IN ADVANCE\n$15 PER PERSON AT THE DOOR\nAll Proceeds will go to Give Kids The World \nCome and say hi! We’ll be performing and answering questions for 12-3pm. \nJoin us at the 2021 Bridal Showcase!
URL:https://www.caladesisteelband.com/event/don-cesar-bridal-show-2020/
LOCATION:Don CeSar\, 3400 Gulf Blvd\, St Petersburg\, FL\, 33706\, United States
CATEGORIES:Wedding Shows
ATTACH;FMTTYPE=image/png:https://caladesisteelband.com/wp-content/uploads/2018/01/don-cesar.png
END:VEVENT
END:VCALENDAR