BEGIN:VCALENDAR
VERSION:2.0
PRODID:-//Caladesi Steel Band - ECPv6.15.20//NONSGML v1.0//EN
CALSCALE:GREGORIAN
METHOD:PUBLISH
X-WR-CALNAME:Caladesi Steel Band
X-ORIGINAL-URL:https://www.caladesisteelband.com
X-WR-CALDESC:Events for Caladesi Steel Band
REFRESH-INTERVAL;VALUE=DURATION:PT1H
X-Robots-Tag:noindex
X-PUBLISHED-TTL:PT1H
BEGIN:VTIMEZONE
TZID:America/New_York
BEGIN:DAYLIGHT
TZOFFSETFROM:-0500
TZOFFSETTO:-0400
TZNAME:EDT
DTSTART:20210314T070000
END:DAYLIGHT
BEGIN:STANDARD
TZOFFSETFROM:-0400
TZOFFSETTO:-0500
TZNAME:EST
DTSTART:20211107T060000
END:STANDARD
BEGIN:DAYLIGHT
TZOFFSETFROM:-0500
TZOFFSETTO:-0400
TZNAME:EDT
DTSTART:20220313T070000
END:DAYLIGHT
BEGIN:STANDARD
TZOFFSETFROM:-0400
TZOFFSETTO:-0500
TZNAME:EST
DTSTART:20221106T060000
END:STANDARD
BEGIN:DAYLIGHT
TZOFFSETFROM:-0500
TZOFFSETTO:-0400
TZNAME:EDT
DTSTART:20230312T070000
END:DAYLIGHT
BEGIN:STANDARD
TZOFFSETFROM:-0400
TZOFFSETTO:-0500
TZNAME:EST
DTSTART:20231105T060000
END:STANDARD
END:VTIMEZONE
BEGIN:VEVENT
DTSTART;TZID=America/New_York:20220130T130000
DTEND;TZID=America/New_York:20220130T160000
DTSTAMP:20260421T063750
CREATED:20211115T193800Z
LAST-MODIFIED:20211115T194728Z
UID:10000006-1643547600-1643558400@www.caladesisteelband.com
SUMMARY:Fenway Wedding Showcase 2022
DESCRIPTION:Join us with over 55 of Tampa Bay’s best vendors in ALL categories at Dunedin’s historic jazz-age hotel.\nThis is a FREE wedding showcase for all couples looking for vendors to be a part of their perfect day. Register prior to the showcase to be entered to win a night stay at the Fenway Hotel!
URL:https://www.caladesisteelband.com/event/fenway-wedding-showcase-2022/
LOCATION:Fenway Hotel\, 453 Edgewater Drive\, Dunedin\, FL\, 34698\, United States
CATEGORIES:Events,Wedding Shows
ATTACH;FMTTYPE=image/jpeg:https://caladesisteelband.com/wp-content/uploads/2021/11/fenway-wedding-showcase.jpg
END:VEVENT
END:VCALENDAR