BEGIN:VCALENDAR
VERSION:2.0
PRODID:-//Caladesi Steel Band - ECPv6.15.20//NONSGML v1.0//EN
CALSCALE:GREGORIAN
METHOD:PUBLISH
X-WR-CALNAME:Caladesi Steel Band
X-ORIGINAL-URL:https://www.caladesisteelband.com
X-WR-CALDESC:Events for Caladesi Steel Band
REFRESH-INTERVAL;VALUE=DURATION:PT1H
X-Robots-Tag:noindex
X-PUBLISHED-TTL:PT1H
BEGIN:VTIMEZONE
TZID:America/New_York
BEGIN:DAYLIGHT
TZOFFSETFROM:-0500
TZOFFSETTO:-0400
TZNAME:EDT
DTSTART:20230312T070000
END:DAYLIGHT
BEGIN:STANDARD
TZOFFSETFROM:-0400
TZOFFSETTO:-0500
TZNAME:EST
DTSTART:20231105T060000
END:STANDARD
BEGIN:DAYLIGHT
TZOFFSETFROM:-0500
TZOFFSETTO:-0400
TZNAME:EDT
DTSTART:20240310T070000
END:DAYLIGHT
BEGIN:STANDARD
TZOFFSETFROM:-0400
TZOFFSETTO:-0500
TZNAME:EST
DTSTART:20241103T060000
END:STANDARD
BEGIN:DAYLIGHT
TZOFFSETFROM:-0500
TZOFFSETTO:-0400
TZNAME:EDT
DTSTART:20250309T070000
END:DAYLIGHT
BEGIN:STANDARD
TZOFFSETFROM:-0400
TZOFFSETTO:-0500
TZNAME:EST
DTSTART:20251102T060000
END:STANDARD
END:VTIMEZONE
BEGIN:VEVENT
DTSTART;TZID=America/New_York:20240524T090000
DTEND;TZID=America/New_York:20240524T120000
DTSTAMP:20260419T113040
CREATED:20240510T183858Z
LAST-MODIFIED:20240514T110730Z
UID:10000048-1716541200-1716552000@www.caladesisteelband.com
SUMMARY:Rum Runners Bar & Grille at Sirata Beach Resort on St Pete Beach
DESCRIPTION:Johnny and Dave of Caladesi Steel Band  will be taking turns playing solo at the Rum Runners at the Sirata Beach Resort on St Petersburg Beach from 9am to 12pm every Friday and Saturday this summer! Start your weekend with steel pan soca\, calypso\, and reggae. \nCalypso Mornings with Caladesi Steel Band at Rum Runners \nSun-drenched mornings by the beach just got a whole lot more Caribbean! This summer\, Caladesi Steel Band is setting up shop at Rum Runners\, Sirata Beach Resort\, every Friday and Saturday from 9am to 12pm. \nThe Perfect Beach Morning Soundtrack \nWhether you’re a local or a visitor\, these lively morning sessions are a fantastic way to kick off your weekend. Grab a table at Rum Runners\, fuel up with a tasty brunch\, and let the music wash over you. It’s the ideal recipe for relaxation and island vibes. \nCaladesi Steel Band: Live steel drums every Friday & Saturday this summer\, 9am – 12pm at Rum Runners\, Sirata Beach Resort.
URL:https://www.caladesisteelband.com/event/rum-runners-bar-grille-at-sirata-beach-resort-on-st-pete-beach/2024-05-24/
LOCATION:Sirata Beach Resort\, 5300 Gulf Blvd\,\, St Pete Beach\, FL\, 33706\, United States
CATEGORIES:St Petersburg Beach
ATTACH;FMTTYPE=image/jpeg:https://caladesisteelband.com/wp-content/uploads/2023/12/rum-runners-sirata.jpg
ORGANIZER;CN="Caladesi Steel Band":MAILTO:info@caladesisteelband.com
END:VEVENT
BEGIN:VEVENT
DTSTART;TZID=America/New_York:20240525T090000
DTEND;TZID=America/New_York:20240525T120000
DTSTAMP:20260419T113040
CREATED:20240510T183858Z
LAST-MODIFIED:20240514T110730Z
UID:10000049-1716627600-1716638400@www.caladesisteelband.com
SUMMARY:Rum Runners Bar & Grille at Sirata Beach Resort on St Pete Beach
DESCRIPTION:Johnny and Dave of Caladesi Steel Band  will be taking turns playing solo at the Rum Runners at the Sirata Beach Resort on St Petersburg Beach from 9am to 12pm every Friday and Saturday this summer! Start your weekend with steel pan soca\, calypso\, and reggae. \nCalypso Mornings with Caladesi Steel Band at Rum Runners \nSun-drenched mornings by the beach just got a whole lot more Caribbean! This summer\, Caladesi Steel Band is setting up shop at Rum Runners\, Sirata Beach Resort\, every Friday and Saturday from 9am to 12pm. \nThe Perfect Beach Morning Soundtrack \nWhether you’re a local or a visitor\, these lively morning sessions are a fantastic way to kick off your weekend. Grab a table at Rum Runners\, fuel up with a tasty brunch\, and let the music wash over you. It’s the ideal recipe for relaxation and island vibes. \nCaladesi Steel Band: Live steel drums every Friday & Saturday this summer\, 9am – 12pm at Rum Runners\, Sirata Beach Resort.
URL:https://www.caladesisteelband.com/event/rum-runners-bar-grille-at-sirata-beach-resort-on-st-pete-beach/2024-05-25/
LOCATION:Sirata Beach Resort\, 5300 Gulf Blvd\,\, St Pete Beach\, FL\, 33706\, United States
CATEGORIES:St Petersburg Beach
ATTACH;FMTTYPE=image/jpeg:https://caladesisteelband.com/wp-content/uploads/2023/12/rum-runners-sirata.jpg
ORGANIZER;CN="Caladesi Steel Band":MAILTO:info@caladesisteelband.com
END:VEVENT
BEGIN:VEVENT
DTSTART;TZID=America/New_York:20240531T090000
DTEND;TZID=America/New_York:20240531T120000
DTSTAMP:20260419T113040
CREATED:20240510T183858Z
LAST-MODIFIED:20240514T110730Z
UID:10000050-1717146000-1717156800@www.caladesisteelband.com
SUMMARY:Rum Runners Bar & Grille at Sirata Beach Resort on St Pete Beach
DESCRIPTION:Johnny and Dave of Caladesi Steel Band  will be taking turns playing solo at the Rum Runners at the Sirata Beach Resort on St Petersburg Beach from 9am to 12pm every Friday and Saturday this summer! Start your weekend with steel pan soca\, calypso\, and reggae. \nCalypso Mornings with Caladesi Steel Band at Rum Runners \nSun-drenched mornings by the beach just got a whole lot more Caribbean! This summer\, Caladesi Steel Band is setting up shop at Rum Runners\, Sirata Beach Resort\, every Friday and Saturday from 9am to 12pm. \nThe Perfect Beach Morning Soundtrack \nWhether you’re a local or a visitor\, these lively morning sessions are a fantastic way to kick off your weekend. Grab a table at Rum Runners\, fuel up with a tasty brunch\, and let the music wash over you. It’s the ideal recipe for relaxation and island vibes. \nCaladesi Steel Band: Live steel drums every Friday & Saturday this summer\, 9am – 12pm at Rum Runners\, Sirata Beach Resort.
URL:https://www.caladesisteelband.com/event/rum-runners-bar-grille-at-sirata-beach-resort-on-st-pete-beach/2024-05-31/
LOCATION:Sirata Beach Resort\, 5300 Gulf Blvd\,\, St Pete Beach\, FL\, 33706\, United States
CATEGORIES:St Petersburg Beach
ATTACH;FMTTYPE=image/jpeg:https://caladesisteelband.com/wp-content/uploads/2023/12/rum-runners-sirata.jpg
ORGANIZER;CN="Caladesi Steel Band":MAILTO:info@caladesisteelband.com
END:VEVENT
END:VCALENDAR