BEGIN:VCALENDAR
VERSION:2.0
PRODID:-//Caladesi Steel Band - ECPv6.15.20//NONSGML v1.0//EN
CALSCALE:GREGORIAN
METHOD:PUBLISH
X-WR-CALNAME:Caladesi Steel Band
X-ORIGINAL-URL:https://www.caladesisteelband.com
X-WR-CALDESC:Events for Caladesi Steel Band
REFRESH-INTERVAL;VALUE=DURATION:PT1H
X-Robots-Tag:noindex
X-PUBLISHED-TTL:PT1H
BEGIN:VTIMEZONE
TZID:America/New_York
BEGIN:DAYLIGHT
TZOFFSETFROM:-0500
TZOFFSETTO:-0400
TZNAME:EDT
DTSTART:20230312T070000
END:DAYLIGHT
BEGIN:STANDARD
TZOFFSETFROM:-0400
TZOFFSETTO:-0500
TZNAME:EST
DTSTART:20231105T060000
END:STANDARD
BEGIN:DAYLIGHT
TZOFFSETFROM:-0500
TZOFFSETTO:-0400
TZNAME:EDT
DTSTART:20240310T070000
END:DAYLIGHT
BEGIN:STANDARD
TZOFFSETFROM:-0400
TZOFFSETTO:-0500
TZNAME:EST
DTSTART:20241103T060000
END:STANDARD
BEGIN:DAYLIGHT
TZOFFSETFROM:-0500
TZOFFSETTO:-0400
TZNAME:EDT
DTSTART:20250309T070000
END:DAYLIGHT
BEGIN:STANDARD
TZOFFSETFROM:-0400
TZOFFSETTO:-0500
TZNAME:EST
DTSTART:20251102T060000
END:STANDARD
END:VTIMEZONE
BEGIN:VEVENT
DTSTART;TZID=America/New_York:20240601T090000
DTEND;TZID=America/New_York:20240601T120000
DTSTAMP:20260419T095831
CREATED:20240510T183858Z
LAST-MODIFIED:20240514T110730Z
UID:10000051-1717232400-1717243200@www.caladesisteelband.com
SUMMARY:Rum Runners Bar & Grille at Sirata Beach Resort on St Pete Beach
DESCRIPTION:Johnny and Dave of Caladesi Steel Band  will be taking turns playing solo at the Rum Runners at the Sirata Beach Resort on St Petersburg Beach from 9am to 12pm every Friday and Saturday this summer! Start your weekend with steel pan soca\, calypso\, and reggae. \nCalypso Mornings with Caladesi Steel Band at Rum Runners \nSun-drenched mornings by the beach just got a whole lot more Caribbean! This summer\, Caladesi Steel Band is setting up shop at Rum Runners\, Sirata Beach Resort\, every Friday and Saturday from 9am to 12pm. \nThe Perfect Beach Morning Soundtrack \nWhether you’re a local or a visitor\, these lively morning sessions are a fantastic way to kick off your weekend. Grab a table at Rum Runners\, fuel up with a tasty brunch\, and let the music wash over you. It’s the ideal recipe for relaxation and island vibes. \nCaladesi Steel Band: Live steel drums every Friday & Saturday this summer\, 9am – 12pm at Rum Runners\, Sirata Beach Resort.
URL:https://www.caladesisteelband.com/event/rum-runners-bar-grille-at-sirata-beach-resort-on-st-pete-beach/2024-06-01/
LOCATION:Sirata Beach Resort\, 5300 Gulf Blvd\,\, St Pete Beach\, FL\, 33706\, United States
CATEGORIES:St Petersburg Beach
ATTACH;FMTTYPE=image/jpeg:https://caladesisteelband.com/wp-content/uploads/2023/12/rum-runners-sirata.jpg
ORGANIZER;CN="Caladesi Steel Band":MAILTO:info@caladesisteelband.com
END:VEVENT
BEGIN:VEVENT
DTSTART;TZID=America/New_York:20240607T090000
DTEND;TZID=America/New_York:20240607T120000
DTSTAMP:20260419T095831
CREATED:20240510T183858Z
LAST-MODIFIED:20240514T110730Z
UID:10000052-1717750800-1717761600@www.caladesisteelband.com
SUMMARY:Rum Runners Bar & Grille at Sirata Beach Resort on St Pete Beach
DESCRIPTION:Johnny and Dave of Caladesi Steel Band  will be taking turns playing solo at the Rum Runners at the Sirata Beach Resort on St Petersburg Beach from 9am to 12pm every Friday and Saturday this summer! Start your weekend with steel pan soca\, calypso\, and reggae. \nCalypso Mornings with Caladesi Steel Band at Rum Runners \nSun-drenched mornings by the beach just got a whole lot more Caribbean! This summer\, Caladesi Steel Band is setting up shop at Rum Runners\, Sirata Beach Resort\, every Friday and Saturday from 9am to 12pm. \nThe Perfect Beach Morning Soundtrack \nWhether you’re a local or a visitor\, these lively morning sessions are a fantastic way to kick off your weekend. Grab a table at Rum Runners\, fuel up with a tasty brunch\, and let the music wash over you. It’s the ideal recipe for relaxation and island vibes. \nCaladesi Steel Band: Live steel drums every Friday & Saturday this summer\, 9am – 12pm at Rum Runners\, Sirata Beach Resort.
URL:https://www.caladesisteelband.com/event/rum-runners-bar-grille-at-sirata-beach-resort-on-st-pete-beach/2024-06-07/
LOCATION:Sirata Beach Resort\, 5300 Gulf Blvd\,\, St Pete Beach\, FL\, 33706\, United States
CATEGORIES:St Petersburg Beach
ATTACH;FMTTYPE=image/jpeg:https://caladesisteelband.com/wp-content/uploads/2023/12/rum-runners-sirata.jpg
ORGANIZER;CN="Caladesi Steel Band":MAILTO:info@caladesisteelband.com
END:VEVENT
BEGIN:VEVENT
DTSTART;TZID=America/New_York:20240608T090000
DTEND;TZID=America/New_York:20240608T120000
DTSTAMP:20260419T095831
CREATED:20240510T183858Z
LAST-MODIFIED:20240514T110730Z
UID:10000053-1717837200-1717848000@www.caladesisteelband.com
SUMMARY:Rum Runners Bar & Grille at Sirata Beach Resort on St Pete Beach
DESCRIPTION:Johnny and Dave of Caladesi Steel Band  will be taking turns playing solo at the Rum Runners at the Sirata Beach Resort on St Petersburg Beach from 9am to 12pm every Friday and Saturday this summer! Start your weekend with steel pan soca\, calypso\, and reggae. \nCalypso Mornings with Caladesi Steel Band at Rum Runners \nSun-drenched mornings by the beach just got a whole lot more Caribbean! This summer\, Caladesi Steel Band is setting up shop at Rum Runners\, Sirata Beach Resort\, every Friday and Saturday from 9am to 12pm. \nThe Perfect Beach Morning Soundtrack \nWhether you’re a local or a visitor\, these lively morning sessions are a fantastic way to kick off your weekend. Grab a table at Rum Runners\, fuel up with a tasty brunch\, and let the music wash over you. It’s the ideal recipe for relaxation and island vibes. \nCaladesi Steel Band: Live steel drums every Friday & Saturday this summer\, 9am – 12pm at Rum Runners\, Sirata Beach Resort.
URL:https://www.caladesisteelband.com/event/rum-runners-bar-grille-at-sirata-beach-resort-on-st-pete-beach/2024-06-08/
LOCATION:Sirata Beach Resort\, 5300 Gulf Blvd\,\, St Pete Beach\, FL\, 33706\, United States
CATEGORIES:St Petersburg Beach
ATTACH;FMTTYPE=image/jpeg:https://caladesisteelband.com/wp-content/uploads/2023/12/rum-runners-sirata.jpg
ORGANIZER;CN="Caladesi Steel Band":MAILTO:info@caladesisteelband.com
END:VEVENT
BEGIN:VEVENT
DTSTART;TZID=America/New_York:20240614T090000
DTEND;TZID=America/New_York:20240614T120000
DTSTAMP:20260419T095831
CREATED:20240510T183858Z
LAST-MODIFIED:20240514T110730Z
UID:10000054-1718355600-1718366400@www.caladesisteelband.com
SUMMARY:Rum Runners Bar & Grille at Sirata Beach Resort on St Pete Beach
DESCRIPTION:Johnny and Dave of Caladesi Steel Band  will be taking turns playing solo at the Rum Runners at the Sirata Beach Resort on St Petersburg Beach from 9am to 12pm every Friday and Saturday this summer! Start your weekend with steel pan soca\, calypso\, and reggae. \nCalypso Mornings with Caladesi Steel Band at Rum Runners \nSun-drenched mornings by the beach just got a whole lot more Caribbean! This summer\, Caladesi Steel Band is setting up shop at Rum Runners\, Sirata Beach Resort\, every Friday and Saturday from 9am to 12pm. \nThe Perfect Beach Morning Soundtrack \nWhether you’re a local or a visitor\, these lively morning sessions are a fantastic way to kick off your weekend. Grab a table at Rum Runners\, fuel up with a tasty brunch\, and let the music wash over you. It’s the ideal recipe for relaxation and island vibes. \nCaladesi Steel Band: Live steel drums every Friday & Saturday this summer\, 9am – 12pm at Rum Runners\, Sirata Beach Resort.
URL:https://www.caladesisteelband.com/event/rum-runners-bar-grille-at-sirata-beach-resort-on-st-pete-beach/2024-06-14/
LOCATION:Sirata Beach Resort\, 5300 Gulf Blvd\,\, St Pete Beach\, FL\, 33706\, United States
CATEGORIES:St Petersburg Beach
ATTACH;FMTTYPE=image/jpeg:https://caladesisteelband.com/wp-content/uploads/2023/12/rum-runners-sirata.jpg
ORGANIZER;CN="Caladesi Steel Band":MAILTO:info@caladesisteelband.com
END:VEVENT
BEGIN:VEVENT
DTSTART;TZID=America/New_York:20240615T090000
DTEND;TZID=America/New_York:20240615T120000
DTSTAMP:20260419T095831
CREATED:20240510T183858Z
LAST-MODIFIED:20240514T110730Z
UID:10000055-1718442000-1718452800@www.caladesisteelband.com
SUMMARY:Rum Runners Bar & Grille at Sirata Beach Resort on St Pete Beach
DESCRIPTION:Johnny and Dave of Caladesi Steel Band  will be taking turns playing solo at the Rum Runners at the Sirata Beach Resort on St Petersburg Beach from 9am to 12pm every Friday and Saturday this summer! Start your weekend with steel pan soca\, calypso\, and reggae. \nCalypso Mornings with Caladesi Steel Band at Rum Runners \nSun-drenched mornings by the beach just got a whole lot more Caribbean! This summer\, Caladesi Steel Band is setting up shop at Rum Runners\, Sirata Beach Resort\, every Friday and Saturday from 9am to 12pm. \nThe Perfect Beach Morning Soundtrack \nWhether you’re a local or a visitor\, these lively morning sessions are a fantastic way to kick off your weekend. Grab a table at Rum Runners\, fuel up with a tasty brunch\, and let the music wash over you. It’s the ideal recipe for relaxation and island vibes. \nCaladesi Steel Band: Live steel drums every Friday & Saturday this summer\, 9am – 12pm at Rum Runners\, Sirata Beach Resort.
URL:https://www.caladesisteelband.com/event/rum-runners-bar-grille-at-sirata-beach-resort-on-st-pete-beach/2024-06-15/
LOCATION:Sirata Beach Resort\, 5300 Gulf Blvd\,\, St Pete Beach\, FL\, 33706\, United States
CATEGORIES:St Petersburg Beach
ATTACH;FMTTYPE=image/jpeg:https://caladesisteelband.com/wp-content/uploads/2023/12/rum-runners-sirata.jpg
ORGANIZER;CN="Caladesi Steel Band":MAILTO:info@caladesisteelband.com
END:VEVENT
BEGIN:VEVENT
DTSTART;TZID=America/New_York:20240621T090000
DTEND;TZID=America/New_York:20240621T120000
DTSTAMP:20260419T095831
CREATED:20240510T183858Z
LAST-MODIFIED:20240514T110730Z
UID:10000056-1718960400-1718971200@www.caladesisteelband.com
SUMMARY:Rum Runners Bar & Grille at Sirata Beach Resort on St Pete Beach
DESCRIPTION:Johnny and Dave of Caladesi Steel Band  will be taking turns playing solo at the Rum Runners at the Sirata Beach Resort on St Petersburg Beach from 9am to 12pm every Friday and Saturday this summer! Start your weekend with steel pan soca\, calypso\, and reggae. \nCalypso Mornings with Caladesi Steel Band at Rum Runners \nSun-drenched mornings by the beach just got a whole lot more Caribbean! This summer\, Caladesi Steel Band is setting up shop at Rum Runners\, Sirata Beach Resort\, every Friday and Saturday from 9am to 12pm. \nThe Perfect Beach Morning Soundtrack \nWhether you’re a local or a visitor\, these lively morning sessions are a fantastic way to kick off your weekend. Grab a table at Rum Runners\, fuel up with a tasty brunch\, and let the music wash over you. It’s the ideal recipe for relaxation and island vibes. \nCaladesi Steel Band: Live steel drums every Friday & Saturday this summer\, 9am – 12pm at Rum Runners\, Sirata Beach Resort.
URL:https://www.caladesisteelband.com/event/rum-runners-bar-grille-at-sirata-beach-resort-on-st-pete-beach/2024-06-21/
LOCATION:Sirata Beach Resort\, 5300 Gulf Blvd\,\, St Pete Beach\, FL\, 33706\, United States
CATEGORIES:St Petersburg Beach
ATTACH;FMTTYPE=image/jpeg:https://caladesisteelband.com/wp-content/uploads/2023/12/rum-runners-sirata.jpg
ORGANIZER;CN="Caladesi Steel Band":MAILTO:info@caladesisteelband.com
END:VEVENT
BEGIN:VEVENT
DTSTART;TZID=America/New_York:20240622T090000
DTEND;TZID=America/New_York:20240622T120000
DTSTAMP:20260419T095831
CREATED:20240510T183858Z
LAST-MODIFIED:20240514T110730Z
UID:10000057-1719046800-1719057600@www.caladesisteelband.com
SUMMARY:Rum Runners Bar & Grille at Sirata Beach Resort on St Pete Beach
DESCRIPTION:Johnny and Dave of Caladesi Steel Band  will be taking turns playing solo at the Rum Runners at the Sirata Beach Resort on St Petersburg Beach from 9am to 12pm every Friday and Saturday this summer! Start your weekend with steel pan soca\, calypso\, and reggae. \nCalypso Mornings with Caladesi Steel Band at Rum Runners \nSun-drenched mornings by the beach just got a whole lot more Caribbean! This summer\, Caladesi Steel Band is setting up shop at Rum Runners\, Sirata Beach Resort\, every Friday and Saturday from 9am to 12pm. \nThe Perfect Beach Morning Soundtrack \nWhether you’re a local or a visitor\, these lively morning sessions are a fantastic way to kick off your weekend. Grab a table at Rum Runners\, fuel up with a tasty brunch\, and let the music wash over you. It’s the ideal recipe for relaxation and island vibes. \nCaladesi Steel Band: Live steel drums every Friday & Saturday this summer\, 9am – 12pm at Rum Runners\, Sirata Beach Resort.
URL:https://www.caladesisteelband.com/event/rum-runners-bar-grille-at-sirata-beach-resort-on-st-pete-beach/2024-06-22/
LOCATION:Sirata Beach Resort\, 5300 Gulf Blvd\,\, St Pete Beach\, FL\, 33706\, United States
CATEGORIES:St Petersburg Beach
ATTACH;FMTTYPE=image/jpeg:https://caladesisteelband.com/wp-content/uploads/2023/12/rum-runners-sirata.jpg
ORGANIZER;CN="Caladesi Steel Band":MAILTO:info@caladesisteelband.com
END:VEVENT
BEGIN:VEVENT
DTSTART;TZID=America/New_York:20240623T140000
DTEND;TZID=America/New_York:20240623T180000
DTSTAMP:20260419T095831
CREATED:20240619T222048Z
LAST-MODIFIED:20240619T222048Z
UID:10000182-1719151200-1719165600@www.caladesisteelband.com
SUMMARY:Ozona Blue - Palm Harbor - Solo Steel Pan
DESCRIPTION:Enjoy a relaxing lunch with live steel pan at Ozona Blue Grill in Palm Harbor\, Florida. This waterfront restaurant offers grilled seafood\, sandwiches\, and flatbreads in a casual\, family-friendly atmosphere. Dine indoors under a thatched-roof tiki hut bar\, or take in the scenery on the outdoor terrace. Soak up the Florida sunshine poolside\, or watch boats go by on the St. Josephs Sound. Johnny from Caladesi Steel Band will be playing from 2-6pm on Sunday. Lunch is served from 11am until 10pm daily. \n 
URL:https://www.caladesisteelband.com/event/ozona-blue-palm-harbor-solo-steel-pan/
LOCATION:Ozona Blue\, 125 Orange St FL\, Palm Harbor\, FL\, 34683\, United States
CATEGORIES:Events,Palm Harbor
ATTACH;FMTTYPE=image/jpeg:https://caladesisteelband.com/wp-content/uploads/2024/06/Ozona-Blue-Palm-Harbor.jpg
ORGANIZER;CN="Caladesi Steel Band":MAILTO:info@caladesisteelband.com
END:VEVENT
BEGIN:VEVENT
DTSTART;TZID=America/New_York:20240628T090000
DTEND;TZID=America/New_York:20240628T120000
DTSTAMP:20260419T095831
CREATED:20240627T232206Z
LAST-MODIFIED:20240627T232206Z
UID:10000058-1719565200-1719576000@www.caladesisteelband.com
SUMMARY:Rum Runners Bar & Grille at Sirata Beach Resort on St Pete Beach
DESCRIPTION:Johnny and Dave of Caladesi Steel Band  will be taking turns playing solo at the Rum Runners at the Sirata Beach Resort on St Petersburg Beach from 9am to 12pm every Friday and Saturday this summer! Start your weekend with steel pan soca\, calypso\, and reggae. \nCalypso Mornings with Caladesi Steel Band at Rum Runners \nSun-drenched mornings by the beach just got a whole lot more Caribbean! This summer\, Caladesi Steel Band is setting up shop at Rum Runners\, Sirata Beach Resort\, every Friday and Saturday from 9am to 12pm. \nThe Perfect Beach Morning Soundtrack \nWhether you’re a local or a visitor\, these lively morning sessions are a fantastic way to kick off your weekend. Grab a table at Rum Runners\, fuel up with a tasty brunch\, and let the music wash over you. It’s the ideal recipe for relaxation and island vibes. \nCaladesi Steel Band: Live steel drums every Friday & Saturday this summer\, 9am – 12pm at Rum Runners\, Sirata Beach Resort.
URL:https://www.caladesisteelband.com/event/rum-runners-bar-grille-at-sirata-beach-resort-on-st-pete-beach-2/
LOCATION:Sirata Beach Resort\, 5300 Gulf Blvd\,\, St Pete Beach\, FL\, 33706\, United States
CATEGORIES:St Petersburg Beach
ATTACH;FMTTYPE=image/jpeg:https://caladesisteelband.com/wp-content/uploads/2023/12/rum-runners-sirata.jpg
ORGANIZER;CN="Caladesi Steel Band":MAILTO:info@caladesisteelband.com
END:VEVENT
BEGIN:VEVENT
DTSTART;TZID=America/New_York:20240629T090000
DTEND;TZID=America/New_York:20240629T120000
DTSTAMP:20260419T095831
CREATED:20240628T173153Z
LAST-MODIFIED:20240628T174344Z
UID:10000189-1719651600-1719662400@www.caladesisteelband.com
SUMMARY:Rum Runners Bar & Grille at Sirata Beach Resort on St Pete Beach
DESCRIPTION:Johnny and Dave of Caladesi Steel Band  will be taking turns playing solo at the Rum Runners at the Sirata Beach Resort on St Petersburg Beach from 9am to 12pm every Friday and Saturday this summer! Start your weekend with steel pan soca\, calypso\, and reggae. \nCalypso Mornings with Caladesi Steel Band at Rum Runners \nSun-drenched mornings by the beach just got a whole lot more Caribbean! This summer\, Caladesi Steel Band is setting up shop at Rum Runners\, Sirata Beach Resort\, every Friday and Saturday from 9am to 12pm. \nThe Perfect Beach Morning Soundtrack \nWhether you’re a local or a visitor\, these lively morning sessions are a fantastic way to kick off your weekend. Grab a table at Rum Runners\, fuel up with a tasty brunch\, and let the music wash over you. It’s the ideal recipe for relaxation and island vibes. \nCaladesi Steel Band: Live steel drums every Friday & Saturday this summer\, 9am – 12pm at Rum Runners\, Sirata Beach Resort.
URL:https://www.caladesisteelband.com/event/rum-runners-bar-grille-at-sirata-beach-resort-on-st-pete-beach-2-2/2024-06-29/
LOCATION:Sirata Beach Resort\, 5300 Gulf Blvd\,\, St Pete Beach\, FL\, 33706\, United States
CATEGORIES:St Petersburg Beach
ATTACH;FMTTYPE=image/jpeg:https://caladesisteelband.com/wp-content/uploads/2023/12/rum-runners-sirata.jpg
ORGANIZER;CN="Caladesi Steel Band":MAILTO:info@caladesisteelband.com
END:VEVENT
BEGIN:VEVENT
DTSTART;TZID=America/New_York:20240630T080000
DTEND;TZID=America/New_York:20240630T170000
DTSTAMP:20260419T095831
CREATED:20240628T173900Z
LAST-MODIFIED:20240703T120544Z
UID:10000190-1719734400-1719766800@www.caladesisteelband.com
SUMMARY:Rum Runners Bar & Grille at Sirata Beach Resort on St Pete Beach
DESCRIPTION:Johnny and Dave of Caladesi Steel Band  will be taking turns playing solo at the Rum Runners at the Sirata Beach Resort on St Petersburg Beach from 9am to 12pm every Saturday and Sunday this summer! Start your weekend with steel pan soca\, calypso\, and reggae. \nCalypso Mornings with Caladesi Steel Band at Rum Runners \nSun-drenched mornings by the beach just got a whole lot more Caribbean! This summer\, Caladesi Steel Band is setting up shop at Rum Runners\, Sirata Beach Resort\, every Saturday and Sunday from 9am to 12pm. \nThe Perfect Beach Morning Soundtrack \nWhether you’re a local or a visitor\, these lively morning sessions are a fantastic way to kick off your weekend. Grab a table at Rum Runners\, fuel up with a tasty brunch\, and let the music wash over you. It’s the ideal recipe for relaxation and island vibes. \nCaladesi Steel Band: Live steel drums every Saturday and Sunday this summer\, 9am – 12pm at Rum Runners\, Sirata Beach Resort.
URL:https://www.caladesisteelband.com/event/rum-runners-bar-grille-at-sirata-beach-resort-on-st-pete-beach-2-2-2/2024-06-30/1/
LOCATION:Sirata Beach Resort\, 5300 Gulf Blvd\,\, St Pete Beach\, FL\, 33706\, United States
CATEGORIES:St Petersburg Beach
ATTACH;FMTTYPE=image/jpeg:https://caladesisteelband.com/wp-content/uploads/2023/12/rum-runners-sirata.jpg
ORGANIZER;CN="Caladesi Steel Band":MAILTO:info@caladesisteelband.com
END:VEVENT
BEGIN:VEVENT
DTSTART;TZID=America/New_York:20240630T090000
DTEND;TZID=America/New_York:20240630T120000
DTSTAMP:20260419T095831
CREATED:20240628T173153Z
LAST-MODIFIED:20240628T174344Z
UID:10000184-1719738000-1719748800@www.caladesisteelband.com
SUMMARY:Rum Runners Bar & Grille at Sirata Beach Resort on St Pete Beach
DESCRIPTION:Johnny and Dave of Caladesi Steel Band  will be taking turns playing solo at the Rum Runners at the Sirata Beach Resort on St Petersburg Beach from 9am to 12pm every Friday and Saturday this summer! Start your weekend with steel pan soca\, calypso\, and reggae. \nCalypso Mornings with Caladesi Steel Band at Rum Runners \nSun-drenched mornings by the beach just got a whole lot more Caribbean! This summer\, Caladesi Steel Band is setting up shop at Rum Runners\, Sirata Beach Resort\, every Friday and Saturday from 9am to 12pm. \nThe Perfect Beach Morning Soundtrack \nWhether you’re a local or a visitor\, these lively morning sessions are a fantastic way to kick off your weekend. Grab a table at Rum Runners\, fuel up with a tasty brunch\, and let the music wash over you. It’s the ideal recipe for relaxation and island vibes. \nCaladesi Steel Band: Live steel drums every Friday & Saturday this summer\, 9am – 12pm at Rum Runners\, Sirata Beach Resort.
URL:https://www.caladesisteelband.com/event/rum-runners-bar-grille-at-sirata-beach-resort-on-st-pete-beach-2-2/2024-06-30/
LOCATION:Sirata Beach Resort\, 5300 Gulf Blvd\,\, St Pete Beach\, FL\, 33706\, United States
CATEGORIES:St Petersburg Beach
ATTACH;FMTTYPE=image/jpeg:https://caladesisteelband.com/wp-content/uploads/2023/12/rum-runners-sirata.jpg
ORGANIZER;CN="Caladesi Steel Band":MAILTO:info@caladesisteelband.com
END:VEVENT
BEGIN:VEVENT
DTSTART;TZID=America/New_York:20240630T090000
DTEND;TZID=America/New_York:20240630T120000
DTSTAMP:20260419T095831
CREATED:20240628T173900Z
LAST-MODIFIED:20240703T120544Z
UID:10000059-1719738000-1719748800@www.caladesisteelband.com
SUMMARY:Rum Runners Bar & Grille at Sirata Beach Resort on St Pete Beach
DESCRIPTION:Johnny and Dave of Caladesi Steel Band  will be taking turns playing solo at the Rum Runners at the Sirata Beach Resort on St Petersburg Beach from 9am to 12pm every Saturday and Sunday this summer! Start your weekend with steel pan soca\, calypso\, and reggae. \nCalypso Mornings with Caladesi Steel Band at Rum Runners \nSun-drenched mornings by the beach just got a whole lot more Caribbean! This summer\, Caladesi Steel Band is setting up shop at Rum Runners\, Sirata Beach Resort\, every Saturday and Sunday from 9am to 12pm. \nThe Perfect Beach Morning Soundtrack \nWhether you’re a local or a visitor\, these lively morning sessions are a fantastic way to kick off your weekend. Grab a table at Rum Runners\, fuel up with a tasty brunch\, and let the music wash over you. It’s the ideal recipe for relaxation and island vibes. \nCaladesi Steel Band: Live steel drums every Saturday and Sunday this summer\, 9am – 12pm at Rum Runners\, Sirata Beach Resort.
URL:https://www.caladesisteelband.com/event/rum-runners-bar-grille-at-sirata-beach-resort-on-st-pete-beach-2-2-2/2024-06-30/2/
LOCATION:Sirata Beach Resort\, 5300 Gulf Blvd\,\, St Pete Beach\, FL\, 33706\, United States
CATEGORIES:St Petersburg Beach
ATTACH;FMTTYPE=image/jpeg:https://caladesisteelband.com/wp-content/uploads/2023/12/rum-runners-sirata.jpg
ORGANIZER;CN="Caladesi Steel Band":MAILTO:info@caladesisteelband.com
END:VEVENT
END:VCALENDAR