BEGIN:VCALENDAR
VERSION:2.0
PRODID:-//Caladesi Steel Band - ECPv6.15.20//NONSGML v1.0//EN
CALSCALE:GREGORIAN
METHOD:PUBLISH
X-ORIGINAL-URL:https://www.caladesisteelband.com
X-WR-CALDESC:Events for Caladesi Steel Band
REFRESH-INTERVAL;VALUE=DURATION:PT1H
X-Robots-Tag:noindex
X-PUBLISHED-TTL:PT1H
BEGIN:VTIMEZONE
TZID:America/New_York
BEGIN:DAYLIGHT
TZOFFSETFROM:-0500
TZOFFSETTO:-0400
TZNAME:EDT
DTSTART:20180311T070000
END:DAYLIGHT
BEGIN:STANDARD
TZOFFSETFROM:-0400
TZOFFSETTO:-0500
TZNAME:EST
DTSTART:20181104T060000
END:STANDARD
BEGIN:DAYLIGHT
TZOFFSETFROM:-0500
TZOFFSETTO:-0400
TZNAME:EDT
DTSTART:20190310T070000
END:DAYLIGHT
BEGIN:STANDARD
TZOFFSETFROM:-0400
TZOFFSETTO:-0500
TZNAME:EST
DTSTART:20191103T060000
END:STANDARD
BEGIN:DAYLIGHT
TZOFFSETFROM:-0500
TZOFFSETTO:-0400
TZNAME:EDT
DTSTART:20200308T070000
END:DAYLIGHT
BEGIN:STANDARD
TZOFFSETFROM:-0400
TZOFFSETTO:-0500
TZNAME:EST
DTSTART:20201101T060000
END:STANDARD
END:VTIMEZONE
BEGIN:VEVENT
DTSTART;TZID=America/New_York:20190424T150000
DTEND;TZID=America/New_York:20190424T200000
DTSTAMP:20260420T040138
CREATED:20190331T213301Z
LAST-MODIFIED:20190331T214639Z
UID:10000011-1556118000-1556136000@www.caladesisteelband.com
SUMMARY:Beach Wedding Showcase at the Postcard Inn on St Petersburg Beach
DESCRIPTION:I’ll be performing steel pan\, answering questions\, and booking dates at the “Beach Wedding Showcase” at the Postcard Inn on St Pete Beach\, FL. It’s free with complimentary drinks and hor d’oeuvres. Raffles for Apple Ipad\, Apple Watch\, free nights\, free rehearsal dinner and even a free wedding!
URL:https://www.caladesisteelband.com/event/beach-wedding-showcase-at-the-postcard-inn-on-st-petersburg-beach/
LOCATION:Postcard Inn\, 6300 Gulf Boulevard\, Saint Pete Beach\, FL\, 33706\, United States
CATEGORIES:Wedding Shows
ATTACH;FMTTYPE=image/jpeg:https://caladesisteelband.com/wp-content/uploads/2019/03/postcard-inn-wedding-showcase.jpeg
END:VEVENT
END:VCALENDAR