BEGIN:VCALENDAR
VERSION:2.0
PRODID:-//Caladesi Steel Band - ECPv6.15.20//NONSGML v1.0//EN
CALSCALE:GREGORIAN
METHOD:PUBLISH
X-WR-CALNAME:Caladesi Steel Band
X-ORIGINAL-URL:https://www.caladesisteelband.com
X-WR-CALDESC:Events for Caladesi Steel Band
REFRESH-INTERVAL;VALUE=DURATION:PT1H
X-Robots-Tag:noindex
X-PUBLISHED-TTL:PT1H
BEGIN:VTIMEZONE
TZID:America/New_York
BEGIN:DAYLIGHT
TZOFFSETFROM:-0500
TZOFFSETTO:-0400
TZNAME:EDT
DTSTART:20190310T070000
END:DAYLIGHT
BEGIN:STANDARD
TZOFFSETFROM:-0400
TZOFFSETTO:-0500
TZNAME:EST
DTSTART:20191103T060000
END:STANDARD
BEGIN:DAYLIGHT
TZOFFSETFROM:-0500
TZOFFSETTO:-0400
TZNAME:EDT
DTSTART:20200308T070000
END:DAYLIGHT
BEGIN:STANDARD
TZOFFSETFROM:-0400
TZOFFSETTO:-0500
TZNAME:EST
DTSTART:20201101T060000
END:STANDARD
BEGIN:DAYLIGHT
TZOFFSETFROM:-0500
TZOFFSETTO:-0400
TZNAME:EDT
DTSTART:20210314T070000
END:DAYLIGHT
BEGIN:STANDARD
TZOFFSETFROM:-0400
TZOFFSETTO:-0500
TZNAME:EST
DTSTART:20211107T060000
END:STANDARD
END:VTIMEZONE
BEGIN:VEVENT
DTSTART;TZID=America/New_York:20200614T140000
DTEND;TZID=America/New_York:20200614T160000
DTSTAMP:20260420T021341
CREATED:20200511T192353Z
LAST-MODIFIED:20200513T210451Z
UID:10000001-1592143200-1592150400@www.caladesisteelband.com
SUMMARY:Caladesi Steel Band House Concert Livestream
DESCRIPTION:Join us for an up close and personal house concert in St Petersburg! Our acoustic quartet will play a house concert for a limited group\, allowing you experience the music in a completely different way. John Shaw from the Florida Orchestra will join us on lead tenor pan.  \nVisit the link below to see about attending in person\, or follow us on Facebook and Instagram to view the livestream. \nhttps://www.instagram.com/caladesisteelband/\nhttps://www.facebook.com/caladesisteelband
URL:https://www.caladesisteelband.com/event/steel-band-house-concert-livestream/
LOCATION:Virtual
ATTACH;FMTTYPE=image/jpeg:https://caladesisteelband.com/wp-content/uploads/2020/05/caladesi-steel-band-quartet-clearwater-beach-scaled.jpg
ORGANIZER;CN="Caladesi Steel Band":MAILTO:info@caladesisteelband.com
END:VEVENT
BEGIN:VEVENT
DTSTART;TZID=America/New_York:20200411T173000
DTEND;TZID=America/New_York:20200411T180000
DTSTAMP:20260420T021341
CREATED:20200404T185539Z
LAST-MODIFIED:20200404T194652Z
UID:10000020-1586626200-1586628000@www.caladesisteelband.com
SUMMARY:Instagram Live Steel Pan Happy Hour
DESCRIPTION:Join us on Instagram Live at 5:30PM EST for a live feed of solo steel pan music! No charge\, BYOB. Every Friday as long as we’re stuck in the house.
URL:https://www.caladesisteelband.com/event/instagram-steel-pan-happy-hour/
LOCATION:Virtual
ATTACH;FMTTYPE=image/png:https://caladesisteelband.com/wp-content/uploads/2018/08/csb-logo-800.png
ORGANIZER;CN="Caladesi Steel Band":MAILTO:info@caladesisteelband.com
END:VEVENT
END:VCALENDAR